BEGIN:VCALENDAR
VERSION:2.0
PRODID:-//St. Paul&#039;s Lutheran Church - ECPv6.15.20//NONSGML v1.0//EN
CALSCALE:GREGORIAN
METHOD:PUBLISH
X-ORIGINAL-URL:https://stpaulscouncilbluffs.org
X-WR-CALDESC:Events for St. Paul&#039;s Lutheran Church
REFRESH-INTERVAL;VALUE=DURATION:PT1H
X-Robots-Tag:noindex
X-PUBLISHED-TTL:PT1H
BEGIN:VTIMEZONE
TZID:America/Chicago
BEGIN:DAYLIGHT
TZOFFSETFROM:-0600
TZOFFSETTO:-0500
TZNAME:CDT
DTSTART:20240310T080000
END:DAYLIGHT
BEGIN:STANDARD
TZOFFSETFROM:-0500
TZOFFSETTO:-0600
TZNAME:CST
DTSTART:20241103T070000
END:STANDARD
BEGIN:DAYLIGHT
TZOFFSETFROM:-0600
TZOFFSETTO:-0500
TZNAME:CDT
DTSTART:20250309T080000
END:DAYLIGHT
BEGIN:STANDARD
TZOFFSETFROM:-0500
TZOFFSETTO:-0600
TZNAME:CST
DTSTART:20251102T070000
END:STANDARD
BEGIN:DAYLIGHT
TZOFFSETFROM:-0600
TZOFFSETTO:-0500
TZNAME:CDT
DTSTART:20260308T080000
END:DAYLIGHT
BEGIN:STANDARD
TZOFFSETFROM:-0500
TZOFFSETTO:-0600
TZNAME:CST
DTSTART:20261101T070000
END:STANDARD
END:VTIMEZONE
BEGIN:VTIMEZONE
TZID:America/New_York
BEGIN:DAYLIGHT
TZOFFSETFROM:-0500
TZOFFSETTO:-0400
TZNAME:EDT
DTSTART:20250309T070000
END:DAYLIGHT
BEGIN:STANDARD
TZOFFSETFROM:-0400
TZOFFSETTO:-0500
TZNAME:EST
DTSTART:20251102T060000
END:STANDARD
BEGIN:DAYLIGHT
TZOFFSETFROM:-0500
TZOFFSETTO:-0400
TZNAME:EDT
DTSTART:20260308T070000
END:DAYLIGHT
BEGIN:STANDARD
TZOFFSETFROM:-0400
TZOFFSETTO:-0500
TZNAME:EST
DTSTART:20261101T060000
END:STANDARD
BEGIN:DAYLIGHT
TZOFFSETFROM:-0500
TZOFFSETTO:-0400
TZNAME:EDT
DTSTART:20270314T070000
END:DAYLIGHT
BEGIN:STANDARD
TZOFFSETFROM:-0400
TZOFFSETTO:-0500
TZNAME:EST
DTSTART:20271107T060000
END:STANDARD
END:VTIMEZONE
BEGIN:VEVENT
DTSTART;TZID=America/Chicago:20251105T170000
DTEND;TZID=America/Chicago:20251105T190000
DTSTAMP:20260426T041617
CREATED:20251105T182245Z
LAST-MODIFIED:20251105T182245Z
UID:14124-1762362000-1762369200@stpaulscouncilbluffs.org
SUMMARY:Christ Academy 1st Wednesday's Potluck
DESCRIPTION:Please join us at St. Paul’s Lutheran Church on the first Wednesday of each month\, for Christ Academy’s 1st Wednesday’s Potluck Dinners beginning at 5:00pm. \nEveryone is asked to please bring their favorite main dish\, side dish\, and dessert to share with everyone at Christ Academy.  The Hospitality Team will provide drinks\, table and service ware for the meals. \nA wonderful evening of Christian Education and Fellowship.
URL:https://stpaulscouncilbluffs.org/event/christ-academy-1st-wednesdays-potluck/
LOCATION:St. Paul’s Lutheran Church\, 239 Frank St.\, Council Bluffs\, IA\, 51503\, United States
END:VEVENT
BEGIN:VEVENT
DTSTART;TZID=America/New_York:20260503T160000
DTEND;TZID=America/New_York:20260503T180000
DTSTAMP:20260426T041617
CREATED:20260424T172637Z
LAST-MODIFIED:20260424T172637Z
UID:14434-1777824000-1777831200@stpaulscouncilbluffs.org
SUMMARY:2025 - 2026 Music Series Pipe Organ Dedication Recital
DESCRIPTION:Dear Friends in Christ\,\n\nYou are invited to the final of three dedicatory organ recitals\, Sunday\, May 3\, 2026\, beginning at 4:00pm. Kantor Paul Soulek will be the organist the recital. Kantor Paul Soulek will showcase the organs full range capabilities If you’re in the area\, please stop by!\n\nA reception will follow the recital in the Church Undercroft.\n\nThe recital will be live streamed on St. Paul’s Facebook and YouTube streaming platforms.\n\nLinks to St. Paul’s Live Stream Services:\n\nFacebook:https://www.facebook.com/StPauls.LCMS.CB\n\nYouTube:https://www.youtube.com/@st.paulslutheranchurch7373/streams\n\nLook for more information in the coming months on a musical workshop event on Thursday\, August 13\, 2026.\n\n#splccb #stpauls #LCMS #pipeorgan #Sunday #recital #fellowship
URL:https://stpaulscouncilbluffs.org/event/2025-2026-music-series-pipe-organ-dedication-recital/
LOCATION:St. Paul’s Lutheran Church\, 239 Frank St.\, Council Bluffs\, IA\, 51503\, United States
END:VEVENT
END:VCALENDAR